BEGIN:VCALENDAR
VERSION:2.0
PRODID:-//Susan Goodwin Milledge Charity, Fabrics of Desend - ECPv6.15.20//NONSGML v1.0//EN
CALSCALE:GREGORIAN
METHOD:PUBLISH
X-ORIGINAL-URL:https://milledgefodcharity.org
X-WR-CALDESC:Events for Susan Goodwin Milledge Charity, Fabrics of Desend
REFRESH-INTERVAL;VALUE=DURATION:PT1H
X-Robots-Tag:noindex
X-PUBLISHED-TTL:PT1H
BEGIN:VTIMEZONE
TZID:UTC
BEGIN:STANDARD
TZOFFSETFROM:+0000
TZOFFSETTO:+0000
TZNAME:UTC
DTSTART:20220101T000000
END:STANDARD
END:VTIMEZONE
BEGIN:VTIMEZONE
TZID:America/New_York
BEGIN:DAYLIGHT
TZOFFSETFROM:-0500
TZOFFSETTO:-0400
TZNAME:EDT
DTSTART:20220313T070000
END:DAYLIGHT
BEGIN:STANDARD
TZOFFSETFROM:-0400
TZOFFSETTO:-0500
TZNAME:EST
DTSTART:20221106T060000
END:STANDARD
BEGIN:DAYLIGHT
TZOFFSETFROM:-0500
TZOFFSETTO:-0400
TZNAME:EDT
DTSTART:20230312T070000
END:DAYLIGHT
BEGIN:STANDARD
TZOFFSETFROM:-0400
TZOFFSETTO:-0500
TZNAME:EST
DTSTART:20231105T060000
END:STANDARD
BEGIN:DAYLIGHT
TZOFFSETFROM:-0500
TZOFFSETTO:-0400
TZNAME:EDT
DTSTART:20240310T070000
END:DAYLIGHT
BEGIN:STANDARD
TZOFFSETFROM:-0400
TZOFFSETTO:-0500
TZNAME:EST
DTSTART:20241103T060000
END:STANDARD
END:VTIMEZONE
BEGIN:VEVENT
DTSTART;TZID=UTC:20251206T180000
DTEND;TZID=UTC:20251206T213000
DTSTAMP:20260421T100020
CREATED:20250826T155204Z
LAST-MODIFIED:20250826T155209Z
UID:1490-1765044000-1765056600@milledgefodcharity.org
SUMMARY:Christmas Party December 6th 6-930pm
DESCRIPTION:
URL:https://milledgefodcharity.org/event/christmas-party-december-6th-6-930pm/
ATTACH;FMTTYPE=image/png:https://milledgefodcharity.org/wp-content/uploads/2025/08/Christmas-Party-Pinterest-Graphic_1753097453590_18858138217544-1.png
END:VEVENT
BEGIN:VEVENT
DTSTART;TZID=UTC:20250826T080000
DTEND;TZID=UTC:20250826T170000
DTSTAMP:20260421T100020
CREATED:20250805T152805Z
LAST-MODIFIED:20250826T155246Z
UID:1477-1756195200-1756227600@milledgefodcharity.org
SUMMARY:WIS - Von Gaskin
DESCRIPTION:
URL:https://milledgefodcharity.org/event/wis-von-gaskin/
ATTACH;FMTTYPE=image/jpeg:https://milledgefodcharity.org/wp-content/uploads/2025/08/Untitled-260_206229417989089001.jpg
END:VEVENT
BEGIN:VEVENT
DTSTART;TZID=UTC:20250826T080000
DTEND;TZID=UTC:20250826T170000
DTSTAMP:20260421T100020
CREATED:20250802T154802Z
LAST-MODIFIED:20250826T155311Z
UID:1488-1756195200-1756227600@milledgefodcharity.org
SUMMARY:Back to School
DESCRIPTION:https://youtube.com/shorts/YcK48OblTf4?feature=share
URL:https://milledgefodcharity.org/event/back-to-school/
ATTACH;FMTTYPE=image/jpeg:https://milledgefodcharity.org/wp-content/uploads/2025/08/IMG_03113-1.jpg
END:VEVENT
BEGIN:VEVENT
DTSTART;TZID=UTC:20240803T103000
DTEND;TZID=UTC:20240803T133000
DTSTAMP:20260421T100020
CREATED:20240814T184837Z
LAST-MODIFIED:20240814T184837Z
UID:1469-1722681000-1722691800@milledgefodcharity.org
SUMMARY:Back to school free backpacks & supplies
DESCRIPTION:Back to school free backpacks & supplies 3 Aug 2024\, 10:30-1:30 3912 Two Notch rd Columbia SC 29204.
URL:https://milledgefodcharity.org/event/back-to-school-free-backpacks-supplies/
LOCATION:Jackson Creek Elementary\, 3912 Two Notch rd\, Columbia\, SC\, 29204
END:VEVENT
BEGIN:VEVENT
DTSTART;TZID=UTC:20240605T080000
DTEND;TZID=UTC:20240605T170000
DTSTAMP:20260421T100020
CREATED:20240505T183613Z
LAST-MODIFIED:20240814T184139Z
UID:1459-1717574400-1717606800@milledgefodcharity.org
SUMMARY:Jackson Creek Elementary end of school celebration for 1st graders\, adopted by Fabrics Of Descend
DESCRIPTION:
URL:https://milledgefodcharity.org/event/ackson-creek-elementary-end-of-school-celebration-for-1st-graders-adopted-by-fabrics-of-descend/
END:VEVENT
BEGIN:VEVENT
DTSTART;TZID=America/New_York:20231202T180000
DTEND;TZID=America/New_York:20231202T220000
DTSTAMP:20260421T100020
CREATED:20230427T124145Z
LAST-MODIFIED:20230818T171127Z
UID:1295-1701540000-1701554400@milledgefodcharity.org
SUMMARY:Annual Platinum Christmas Xplosion and Giveaway
DESCRIPTION:Description
URL:https://milledgefodcharity.org/event/annual-platinum-christmas-xplosion-and-giveaway/
LOCATION:Lourie Center 1650 Park Circle\, Columbia SC 29201\, 1650 Park Circle\, Columbia\, SC\, 29201\, United States
ATTACH;FMTTYPE=image/jpeg:https://milledgefodcharity.org/wp-content/uploads/2023/04/image-scaled.jpg
END:VEVENT
BEGIN:VEVENT
DTSTART;TZID=UTC:20230508T160000
DTEND;TZID=UTC:20230508T180000
DTSTAMP:20260421T100020
CREATED:20230818T172000Z
LAST-MODIFIED:20230818T172455Z
UID:1438-1683561600-1683568800@milledgefodcharity.org
SUMMARY:FOD Members
DESCRIPTION:Description
URL:https://milledgefodcharity.org/event/fod-members/
END:VEVENT
END:VCALENDAR